500.00000000000000
0.0
0.0
-500.00000000000000
315000.00000000000
700000.00000000000
